BEGIN:VCALENDAR
PRODID:-//eluceo/ical//2.0/EN
VERSION:2.0
CALSCALE:GREGORIAN
BEGIN:VEVENT
UID:26285c7e39884103b6df217b23f24034
DTSTAMP:20260424T220820Z
SUMMARY:Family Shabbat
DESCRIPTION:Champaign-Urbana Jewish Federation\nCommunity Calendar\nhttps:/
 /cujf.org/community-calendar/family-shabbat-2018\n\nSaturday\, Shabbat fam
 ily and explanatory service\, special circle time for children\, followed 
 by a kiddush and lunch\, 10am at Chabad
DTSTART;TZID=America/Chicago:20180303T100000
DTEND;TZID=America/Chicago:20180303T130000
END:VEVENT
END:VCALENDAR
