BEGIN:VCALENDAR
PRODID:-//eluceo/ical//2.0/EN
VERSION:2.0
CALSCALE:GREGORIAN
BEGIN:VEVENT
UID:d304b279b3d2fd0d5262ded0077d435b
DTSTAMP:20260422T144801Z
SUMMARY:Faith & Blue
DESCRIPTION:Champaign-Urbana Jewish Federation\nCommunity Calendar\nhttps:/
 /cujf.org/community-calendar/faith-blue\n\nNational Faith & Blue Weekend f
 acilitates safer and stronger communities by engaging law enforcement offi
 cers and local residents through the connections of faith-based organizati
 ons.\n\n On October 5 come to the Faith & Blue event at Parkland Colle
 ge from 1 to 4. Faith & Blue was created in order to bridge the gap betwe
 en law enforcement and the community while using faith as a commonality to
  gain interest and trust with the people we serve. “The initiative aims 
 to re-calibrate police...
DTSTART;TZID=America/Chicago:20241005T130000
DTEND;TZID=America/Chicago:20241005T160000
END:VEVENT
END:VCALENDAR
