BEGIN:VCALENDAR
PRODID:-//eluceo/ical//2.0/EN
VERSION:2.0
CALSCALE:GREGORIAN
BEGIN:VEVENT
UID:99792ed9c84680de7973aea35b6bf2a4
DTSTAMP:20260421T043130Z
SUMMARY:Evening Service Followed by Festive Dinner
DESCRIPTION:Champaign-Urbana Jewish Federation\nCommunity Calendar\nhttps:/
 /cujf.org/community-calendar/evening-service-sept-10\n\n \n\nJoin Chabad 
 to celebrate Rosh Hashanah. RSVP is required for this dinner. See the 
 full schedule for the high holidays on the Chabad website. 
DTSTART;TZID=America/Chicago:20180910T195000
DTEND;TZID=America/Chicago:20180910T215000
END:VEVENT
END:VCALENDAR
