BEGIN:VCALENDAR
PRODID:-//eluceo/ical//2.0/EN
VERSION:2.0
CALSCALE:GREGORIAN
BEGIN:VEVENT
UID:0e37a1b8d9ffd3a16d071d3613b42d95
DTSTAMP:20260422T082528Z
SUMMARY:Evening of Yiddish Music at Sinai
DESCRIPTION:Champaign-Urbana Jewish Federation\nCommunity Calendar\nhttps:/
 /cujf.org/community-calendar/evening-of-yiddish-music-at-sinai\n\nPlease j
 oin the Urbana Yiddish Ensemble for a free evening of Yiddish music at Sin
 ai Temple. This cabaret event showcases Yiddish theater songs\, Yiddish tr
 aditional folk songs\, and lively klezmer instrumental music (with dancing
 !).\n \nYou are invited to bring wine\, beer\, and other libations. Some 
 snacks will be provided\; snacks to share are welcome.\n \nThe Urbana Yid
 dish Ensemble features Jacqueline Ross and Lev Marshall (vocals)\, Frances
  Harris (violin)\, Maria Merkelo (accordion)\, and Mitch...
DTSTART;TZID=America/Chicago:20190202T190000
DTEND;TZID=America/Chicago:20190202T210000
END:VEVENT
END:VCALENDAR
