BEGIN:VCALENDAR
PRODID:-//eluceo/ical//2.0/EN
VERSION:2.0
CALSCALE:GREGORIAN
BEGIN:VEVENT
UID:9b03766ad96902d0e91f68432727f0b4
DTSTAMP:20260422T223913Z
SUMMARY:Erez Cohen: My Grandma\, the Resistance Fighter
DESCRIPTION:Champaign-Urbana Jewish Federation\nCommunity Calendar\nhttps:/
 /cujf.org/community-calendar/erez-cohen\n\nThe HEC offers a volunteer cour
 se as one of the options for UIUC students taking EDUC 201. Join this seme
 sters volunteer cohort for specific sessions as they learn best practices 
 teaching holocaust through lessons\, interactive activities\, events\, and
  speakers. This session is open to the public\, but please RSVP by emailin
 g azer@cujf.org. 
DTSTART;TZID=America/Chicago:20250325T170000
DTEND;TZID=America/Chicago:20250325T190000
END:VEVENT
END:VCALENDAR
