BEGIN:VCALENDAR
PRODID:-//eluceo/ical//2.0/EN
VERSION:2.0
CALSCALE:GREGORIAN
BEGIN:VEVENT
UID:1fd2dd1811f90f71b11544e2fc0ed31d
DTSTAMP:20260424T110331Z
SUMMARY:Erev Shabbat Service at Sinai
DESCRIPTION:Champaign-Urbana Jewish Federation\nCommunity Calendar\nhttps:/
 /cujf.org/community-calendar/erev-shabbat-service-at-sinai\n\nErev Shabbat
  Service at Sinai
DTSTART;TZID=America/Chicago:20191004T193000
DTEND;TZID=America/Chicago:20191004T193000
END:VEVENT
END:VCALENDAR
