BEGIN:VCALENDAR
PRODID:-//eluceo/ical//2.0/EN
VERSION:2.0
CALSCALE:GREGORIAN
BEGIN:VEVENT
UID:ee49de9d50f8580f4bd8ec7edb90a70f
DTSTAMP:20260425T140852Z
SUMMARY:Erev Rosh Hashanah Service at Sinai
DESCRIPTION:Champaign-Urbana Jewish Federation\nCommunity Calendar\nhttps:/
 /cujf.org/community-calendar/erev-rosh-hashanah-service-at-sinai\n\nErev R
 osh Hashanah Service at Sinai
DTSTART;TZID=America/Chicago:20190929T193000
DTEND;TZID=America/Chicago:20190929T193000
END:VEVENT
END:VCALENDAR
