BEGIN:VCALENDAR
PRODID:-//eluceo/ical//2.0/EN
VERSION:2.0
CALSCALE:GREGORIAN
BEGIN:VEVENT
UID:4249d691354850200dd40f89a30ff954
DTSTAMP:20260426T002024Z
SUMMARY:ENTRIES DUE: Annual Holocaust Art & Writing Contest
DESCRIPTION:Champaign-Urbana Jewish Federation\nCommunity Calendar\nhttps:/
 /cujf.org/community-calendar/entries-due-annual-holocaust-art--writing-con
 test-1670445249\n\nThe Strength of Love and the Will to SurviveParticipati
 ng schools may submit a total of three entries (one entry per student) in 
 any combination of the following categories: art\, film\, poetry\, or pros
 e.Students will be eligible to win a first prize award of $400 in each cat
 egory. Educators and schools will also be eligible to win a first prize of
  $200 each.First-place student winners in the United States\, their parent
 s/ guardians\, and teachers will be invited to participate in an expense-p
 aid...
DTSTART;TZID=America/Chicago:20230203T000000
DTEND;TZID=America/Chicago:20230203T020000
END:VEVENT
END:VCALENDAR
