BEGIN:VCALENDAR
PRODID:-//eluceo/ical//2.0/EN
VERSION:2.0
CALSCALE:GREGORIAN
BEGIN:VEVENT
UID:aa58c78bd36c559ae3c6d674be2af03e
DTSTAMP:20260425T140832Z
SUMMARY:Egalitarian Traditional Minyan Service w/Yizkor
DESCRIPTION:Champaign-Urbana Jewish Federation\nCommunity Calendar\nhttps:/
 /cujf.org/community-calendar/egalitarian-traditional-minyan-service-wyizko
 r\n\nSinai Temple offers a range of services during the High Holiday seaso
 n\, inlcuding Traditional Egalitarian and Reform Services. Sinai Temple al
 so has services for families. Please contact Sinai Temple for complete\,
  up-to-date information on their services and other events. 
DTSTART;TZID=America/Chicago:20180919T090000
DTEND;TZID=America/Chicago:20180919T120000
END:VEVENT
END:VCALENDAR
