BEGIN:VCALENDAR
PRODID:-//eluceo/ical//2.0/EN
VERSION:2.0
CALSCALE:GREGORIAN
BEGIN:VEVENT
UID:c7446c5461745bd6072f684f8710dde4
DTSTAMP:20260425T191721Z
SUMMARY:Egalitarian Traditional Minyan at Sinai
DESCRIPTION:Champaign-Urbana Jewish Federation\nCommunity Calendar\nhttps:/
 /cujf.org/community-calendar/egalitarian-traditional-minyan-at-sinai\n\nEg
 alitarian Traditional Minyan
DTSTART;TZID=America/Chicago:20191207T100000
DTEND;TZID=America/Chicago:20191207T100000
END:VEVENT
END:VCALENDAR
