BEGIN:VCALENDAR
PRODID:-//eluceo/ical//2.0/EN
VERSION:2.0
CALSCALE:GREGORIAN
BEGIN:VEVENT
UID:366ce495d85b88994313aa3b3135f7b2
DTSTAMP:20260424T111448Z
SUMMARY:Early Riser's Minyan
DESCRIPTION:Champaign-Urbana Jewish Federation\nCommunity Calendar\nhttps:/
 /cujf.org/community-calendar/early-risers-minyan-2018\n\nEarly morning min
 yan\, followed by a great breakfast.
DTSTART;TZID=America/Chicago:20180226T080000
DTEND;TZID=America/Chicago:20180226T090000
END:VEVENT
END:VCALENDAR
