BEGIN:VCALENDAR
PRODID:-//eluceo/ical//2.0/EN
VERSION:2.0
CALSCALE:GREGORIAN
BEGIN:VEVENT
UID:86e51981eebbd3cd89d54ce27f6459f0
DTSTAMP:20260420T021647Z
SUMMARY:Dreams as Inspiration\, Insights\, Foreshadowing and Evidence
DESCRIPTION:Champaign-Urbana Jewish Federation\nCommunity Calendar\nhttps:/
 /cujf.org/community-calendar/dreams-as-inspiration-insights-foreshadowing-
 and-evidence\n\nDreams as Inspiration\, Insights\, Foreshadowing and Evide
 nce: A Panel Discussion Through the Lens of “The Third Reich of Dreams
 ”\nTuesday\, September 2\, 2025\; 4:00-5:15pm | Location: School of Info
 rmation Sciences\, 614 E. Daniel St.\, Champaign\, Room 4045. No registra
 tion needed.\n\n\nmoderated by Steve Witt\, Director\, Center for Global 
 Studies and Head of the International and Area Studies Library\, Universit
 y of Illinois at Urbana-Champaign in conversation with\n\n\nAmanda Rubin 
 and Guests...
DTSTART;TZID=America/Chicago:20250902T160000
DTEND;TZID=America/Chicago:20250902T171500
END:VEVENT
END:VCALENDAR
