BEGIN:VCALENDAR
PRODID:-//eluceo/ical//2.0/EN
VERSION:2.0
CALSCALE:GREGORIAN
BEGIN:VEVENT
UID:ef75b4a644e1cf20de6810dd2c7a5339
DTSTAMP:20260423T235523Z
SUMMARY:Dr. William Gingold at Gibson City United Methodist Church
DESCRIPTION:Champaign-Urbana Jewish Federation\nCommunity Calendar\nhttps:/
 /cujf.org/community-calendar/dr-william-gingold-at-gibson-city-united-meth
 odist-church\n\nJoin for dinner from 5-6 and presentation from 6-7pm. 
DTSTART;TZID=America/Chicago:20250330T170000
DTEND;TZID=America/Chicago:20250330T190000
END:VEVENT
END:VCALENDAR
