BEGIN:VCALENDAR
PRODID:-//eluceo/ical//2.0/EN
VERSION:2.0
CALSCALE:GREGORIAN
BEGIN:VEVENT
UID:670fd97a963511cee38d7ce235733b2a
DTSTAMP:20260423T084025Z
SUMMARY:Downtown Champaign Menorah Lighting
DESCRIPTION:Champaign-Urbana Jewish Federation\nCommunity Calendar\nhttps:/
 /cujf.org/community-calendar/downtown-champaign-menorah-lighting\n\nDownto
 wn Champaign Menorah Lighting\n\nWednesday\, December 25th\, 2024\n\nDownt
 own Champaign Main Plaza\n\n7:00 PM\n\n \n\nJoin CUJF and Illini Chabad t
 o kick off Chanukah with a menorah lighting in Downtown Champaign! Wear al
 l your holiday swag and come ready to sing and dance.
DTSTART;TZID=America/Chicago:20241225T190000
DTEND;TZID=America/Chicago:20241225T193000
END:VEVENT
END:VCALENDAR
