BEGIN:VCALENDAR
PRODID:-//eluceo/ical//2.0/EN
VERSION:2.0
CALSCALE:GREGORIAN
BEGIN:VEVENT
UID:f97de2ebe161e87aa923296ba9891d72
DTSTAMP:20260424T152900Z
SUMMARY:Diversity in December: Creating a Culture of Belonging
DESCRIPTION:Champaign-Urbana Jewish Federation\nCommunity Calendar\nhttps:/
 /cujf.org/community-calendar/diversity-in-december-creating-a-culture-of-b
 elonging-1670444774\n\nJoin us to celebrate the shared ideals of Kwanzaa a
 nd Hanukkah: unity in diversity\, self-determination\, and belonging.We lo
 ok forward to gathering together to honor and explore these diverse tradit
 ions and to discuss strategies to foster an inclusive campus environment w
 here students of all backgrounds feel a sense of belonging.Register now! T
 he first 50 registrants will receive a free Kwanzaa/Hanukkah Swag Box!
DTSTART;TZID=America/Chicago:20221208T120000
DTEND;TZID=America/Chicago:20221208T130000
END:VEVENT
END:VCALENDAR
