BEGIN:VCALENDAR
PRODID:-//eluceo/ical//2.0/EN
VERSION:2.0
CALSCALE:GREGORIAN
BEGIN:VEVENT
UID:ba90d9fac672baf3b22e7ce5cf12c149
DTSTAMP:20260422T044829Z
SUMMARY:Sinai Temple Presents: The Debbie Friedman Experience
DESCRIPTION:Champaign-Urbana Jewish Federation\nCommunity Calendar\nhttps:/
 /cujf.org/community-calendar/debbie-friedman-experience\n\nSinai Temple Pr
 esents The\n\nDebbie Friedman Experience\n\n...
DTSTART;TZID=America/Chicago:20241116T190000
DTEND;TZID=America/Chicago:20241116T210000
END:VEVENT
END:VCALENDAR
