BEGIN:VCALENDAR
PRODID:-//eluceo/ical//2.0/EN
VERSION:2.0
CALSCALE:GREGORIAN
BEGIN:VEVENT
UID:41d73820d5cc83e94e8864548da4df30
DTSTAMP:20260424T182815Z
SUMMARY:David Myers Workshop
DESCRIPTION:Champaign-Urbana Jewish Federation\nCommunity Calendar\nhttps:/
 /cujf.org/community-calendar/david-myers-workshop-1550690650\n\nDavid N. M
 yers is the Sady and Ludwig Kahn Professor of Jewish History in the UCLA H
 istory Department\, as well as the director of the UCLA Luskin Center for 
 History and Policy. In 2017-18\, he served as the President/CEO of the Cen
 ter for Jewish History in New York.
DTSTART;TZID=America/Chicago:20190304T120000
DTEND;TZID=America/Chicago:20190304T130000
END:VEVENT
END:VCALENDAR
