BEGIN:VCALENDAR
PRODID:-//eluceo/ical//2.0/EN
VERSION:2.0
CALSCALE:GREGORIAN
BEGIN:VEVENT
UID:fc562143e7159f70b6b80f7d5f536bf8
DTSTAMP:20260423T105002Z
SUMMARY:CUJF & PJ Library Fundraiser: Danny Dubin Magic Show
DESCRIPTION:Champaign-Urbana Jewish Federation\nCommunity Calendar\nhttps:/
 /cujf.org/community-calendar/danny-dubin-magic-show-323240\n\nCUJF invites
  you to a Magic Show with Danny Dubin\, nationally renowned performer of
  magic. Enjoy an evening of fun\, good food\, and magic for families and p
 eople of all ages!\n\n \n\nOur fundraiser for Champaign-Urbana Jewish Fed
 eration and PJ Library program will start with dinner at 5:30 pm\, followe
 d by magic show at 6:15 pm. Tickets are $18 for children and students 18 a
 nd under (children under 5 free) and $25 per adult or $72 for family. You 
 can buy tickets by following the link below o...
DTSTART;TZID=America/Chicago:20190905T173000
DTEND;TZID=America/Chicago:20190905T173000
END:VEVENT
END:VCALENDAR
