BEGIN:VCALENDAR
PRODID:-//eluceo/ical//2.0/EN
VERSION:2.0
CALSCALE:GREGORIAN
BEGIN:VEVENT
UID:e985f7202757be1cb452e6daa50ff255
DTSTAMP:20260422T032038Z
SUMMARY:CUTY Escape  Room
DESCRIPTION:Champaign-Urbana Jewish Federation\nCommunity Calendar\nhttps:/
 /cujf.org/community-calendar/cuty-escape-room\n\nCU Temple Youth is going 
 to CU Adventures in Space and Time to do an escape room. The cost is $20 p
 er person. All local Jewish 7th-12th graders are welcome BUT there is a li
 mited amount of space in the room\, so RSVP early to be sure to get a spot
 ! If we have enough interest\, we may be able to split into two rooms. RSV
 P by adding your information at https://tinyurl.com/cutyescape2019 or by e
 mailing sinaitempleyouth@gmail.com
DTSTART;TZID=America/Chicago:20190127T151500
DTEND;TZID=America/Chicago:20190127T180000
END:VEVENT
END:VCALENDAR
