BEGIN:VCALENDAR
PRODID:-//eluceo/ical//2.0/EN
VERSION:2.0
CALSCALE:GREGORIAN
BEGIN:VEVENT
UID:74fd0bbec2f0e0769c048a47b0541da0
DTSTAMP:20260422T145046Z
SUMMARY:Culture\, Heart\, Art\, & Talk
DESCRIPTION:Champaign-Urbana Jewish Federation\nCommunity Calendar\nhttps:/
 /cujf.org/community-calendar/culture-heart-art-talk\n\nCulture\, Heart\, A
 rt\, & Talk\n\nNovember 13th\, 2024\n7 - 8 PM\n\nNovember 20th \, 2024\n\n
 7 - 9 PM\n\n503 E John St\, Champaign\n\n \n\nJoin CU Trauma and Resliien
 ce Initiative for an open\, trauma-informed conversation on the diversity 
 within the Jewish community. We'll explore racial and cultural identities\
 , fostering understanding and stronger connections across backgrounds. Let
 's C.H.A.T. and build a...
DTSTART;TZID=America/Chicago:20241120T190000
DTEND;TZID=America/Chicago:20241120T200000
END:VEVENT
END:VCALENDAR
