BEGIN:VCALENDAR
PRODID:-//eluceo/ical//2.0/EN
VERSION:2.0
CALSCALE:GREGORIAN
BEGIN:VEVENT
UID:cdcc2054adbd7b35ed1ff4575070dc59
DTSTAMP:20260422T134712Z
SUMMARY:CUJF Board Meeting
DESCRIPTION:Champaign-Urbana Jewish Federation\nCommunity Calendar\nhttps:/
 /cujf.org/community-calendar/cujf-board-meeting526\n\nThe CUJF Board meeti
 ngs monthly. For more information\, please email cujf@cujf.org
DTSTART;TZID=America/Chicago:20260519T190000
DTEND;TZID=America/Chicago:20260519T210000
END:VEVENT
END:VCALENDAR
