BEGIN:VCALENDAR
PRODID:-//eluceo/ical//2.0/EN
VERSION:2.0
CALSCALE:GREGORIAN
BEGIN:VEVENT
UID:2019d2b6c150184658d960a793bb6602
DTSTAMP:20260421T114849Z
SUMMARY:CUJF Board Meeting
DESCRIPTION:Champaign-Urbana Jewish Federation\nCommunity Calendar\nhttps:/
 /cujf.org/community-calendar/cujf-board-meeting326\n\nThe CUJF Board meets
  monthly. For more information\, email cujf@cujf.org. 
DTSTART;TZID=America/Chicago:20260324T190000
DTEND;TZID=America/Chicago:20260324T210000
END:VEVENT
END:VCALENDAR
