BEGIN:VCALENDAR
PRODID:-//eluceo/ical//2.0/EN
VERSION:2.0
CALSCALE:GREGORIAN
BEGIN:VEVENT
UID:da28a540ee5e80e4db103dde7cd327a2
DTSTAMP:20260420T123801Z
SUMMARY:CUJF Board Meeting
DESCRIPTION:Champaign-Urbana Jewish Federation\nCommunity Calendar\nhttps:/
 /cujf.org/community-calendar/cujf-board-meeting1225\n\nThe CUJF Board meet
 s monthly. For more information\, email cujf@cujf.org. 
DTSTART;TZID=America/Chicago:20251216T190000
DTEND;TZID=America/Chicago:20251216T210000
END:VEVENT
END:VCALENDAR
