BEGIN:VCALENDAR
PRODID:-//eluceo/ical//2.0/EN
VERSION:2.0
CALSCALE:GREGORIAN
BEGIN:VEVENT
UID:685f3178a643c80c858e2b209f4cb7ed
DTSTAMP:20260420T075306Z
SUMMARY:CUJF Board Meeting
DESCRIPTION:Champaign-Urbana Jewish Federation\nCommunity Calendar\nhttps:/
 /cujf.org/community-calendar/cujf-board-meeting1125\n\nThe CUJF Board meet
 s monthly. For more information\, email cujf@cujf.org. 
DTSTART;TZID=America/Chicago:20251111T190000
DTEND;TZID=America/Chicago:20251111T210000
END:VEVENT
END:VCALENDAR
