BEGIN:VCALENDAR
PRODID:-//eluceo/ical//2.0/EN
VERSION:2.0
CALSCALE:GREGORIAN
BEGIN:VEVENT
UID:8e27e849e26b07b9a8fefbef731e9812
DTSTAMP:20260421T043925Z
SUMMARY:CUJF Board Meeting
DESCRIPTION:Champaign-Urbana Jewish Federation\nCommunity Calendar\nhttps:/
 /cujf.org/community-calendar/cujf-board-meeting-121\n\nFor more informatio
 n\, please email cujf@cujf.org. 
DTSTART;TZID=America/Chicago:20250121T180000
DTEND;TZID=America/Chicago:20250121T200000
END:VEVENT
END:VCALENDAR
