BEGIN:VCALENDAR
PRODID:-//eluceo/ical//2.0/EN
VERSION:2.0
CALSCALE:GREGORIAN
BEGIN:VEVENT
UID:d667621852acab7427b7098a78bdcab5
DTSTAMP:20260425T125533Z
SUMMARY:CUJF Board Meeting
DESCRIPTION:Champaign-Urbana Jewish Federation\nCommunity Calendar\nhttps:/
 /cujf.org/community-calendar/cujf-board-meeting-1119\n\nFor more informati
 on\, please email cujf@cujf.org. 
DTSTART;TZID=America/Chicago:20241119T180000
DTEND;TZID=America/Chicago:20241119T200000
END:VEVENT
END:VCALENDAR
