BEGIN:VCALENDAR
PRODID:-//eluceo/ical//2.0/EN
VERSION:2.0
CALSCALE:GREGORIAN
BEGIN:VEVENT
UID:03854d626fdc8df6b937502965581f58
DTSTAMP:20260422T212254Z
SUMMARY:CUJF at the Homeschool Fair
DESCRIPTION:Champaign-Urbana Jewish Federation\nCommunity Calendar\nhttps:/
 /cujf.org/community-calendar/cujf-at-the-homeschool-fair\n\nMore info to c
 ome soon!
DTSTART;TZID=America/Chicago:20250125T100000
DTEND;TZID=America/Chicago:20250125T120000
END:VEVENT
END:VCALENDAR
