BEGIN:VCALENDAR
PRODID:-//eluceo/ical//2.0/EN
VERSION:2.0
CALSCALE:GREGORIAN
BEGIN:VEVENT
UID:434ef6d7a2c393cc434a210b2b5f36b0
DTSTAMP:20260422T185624Z
SUMMARY:CUJF at Pridefest and Pride Parade
DESCRIPTION:Champaign-Urbana Jewish Federation\nCommunity Calendar\nhttps:/
 /cujf.org/community-calendar/cujf-at-pridefest-and-pride-parade\n\nAs a pa
 rt of their Pridefest week\, Uniting Pride of Champaign County is holding 
 their annual Pride Parade and fair from 1:00 - 5:00 PM on Saturday\, Septe
 mber 21st. \n\nInterested in volunteering at the fair or walking in the p
 arade with us? Email azer@cujf.org to let them know! \n\nYou can find out
  more details about Pridefest and the parade at https://www.unitingpride.
 org/pridefest2024.html
DTSTART;TZID=America/Chicago:20240921T130000
DTEND;TZID=America/Chicago:20240921T170000
END:VEVENT
END:VCALENDAR
