BEGIN:VCALENDAR
PRODID:-//eluceo/ical//2.0/EN
VERSION:2.0
CALSCALE:GREGORIAN
BEGIN:VEVENT
UID:2c13a84c2532a13ca2386aa98623c819
DTSTAMP:20260422T044809Z
SUMMARY:CUJF Annual Event
DESCRIPTION:Champaign-Urbana Jewish Federation\nCommunity Calendar\nhttps:/
 /cujf.org/community-calendar/cujf-annual-event\n\nTICKETS\n\n\n\n\n\n\n\n\
 n\n\n\n\n\n\n\n\n\n\n\n\n\n\n\nCUJF invites you to join us on\n\nOctober 2
 7th\, 2024\n\n5:00-8:00 pm\n\nThe Venue CU\n\n51 E Main St\, Champaign\, I
 L\n\n \n\nJoin us for an elegant evening of drinks\, hors d'oeuvres\, and
  to be inspired by your work as a member of the Champaign Urbana Jewish co
 mmunity.\n\nAdditionally\, we will be joined by special guest Ken Krimste
 in!\n\nThis is a fundraising event. We will hold a silent auction so come
  purchase your Hanuk...
DTSTART;TZID=America/Chicago:20241027T170000
DTEND;TZID=America/Chicago:20241027T200000
END:VEVENT
END:VCALENDAR
