BEGIN:VCALENDAR
PRODID:-//eluceo/ical//2.0/EN
VERSION:2.0
CALSCALE:GREGORIAN
BEGIN:VEVENT
UID:ef221201c88a34dd3a833ff5d8e5140b
DTSTAMP:20260425T182312Z
SUMMARY:CUJF Annual Dinner
DESCRIPTION:Champaign-Urbana Jewish Federation\nCommunity Calendar\nhttps:/
 /cujf.org/community-calendar/cujf-annual-dinner-2018\n\nJoin us for our An
 nual Dinner! \n\nOur featured speaker will be Jeff Ruby\, Author and Chie
 f Dining Critic for Chicago Magazine. We will also be celebrating Dr. Bria
 n Kahn and the Holocaust Education Committee.  \n\nReception with cash b
 ar and hors d'oeuvres at 6:00 pm\, dinner and program following at 7:00
  pm.  We hope to see you there.\n\n$36 for Adults. $18 for Students. 
 \n\nRegister by March 2nd HERE. 
DTSTART;TZID=America/Chicago:20180311T180000
DTEND;TZID=America/Chicago:20180311T210000
END:VEVENT
END:VCALENDAR
