BEGIN:VCALENDAR
PRODID:-//eluceo/ical//2.0/EN
VERSION:2.0
CALSCALE:GREGORIAN
BEGIN:VEVENT
UID:704ca858f29eb72c8136d2427a750ed2
DTSTAMP:20260420T144404Z
SUMMARY:CUJEF Board Meeting
DESCRIPTION:Champaign-Urbana Jewish Federation\nCommunity Calendar\nhttps:/
 /cujf.org/community-calendar/cujef-board-meeting925\n\nThe CUJEF Board mee
 ts monthly. For more information\, email cujf@cujf.org. 
DTSTART;TZID=America/Chicago:20250929T190000
DTEND;TZID=America/Chicago:20250929T210000
END:VEVENT
END:VCALENDAR
