BEGIN:VCALENDAR
PRODID:-//eluceo/ical//2.0/EN
VERSION:2.0
CALSCALE:GREGORIAN
BEGIN:VEVENT
UID:e5149ae21fdf67961b089e4e0dfd5c53
DTSTAMP:20260422T014726Z
SUMMARY:CUJEF Board Meeting
DESCRIPTION:Champaign-Urbana Jewish Federation\nCommunity Calendar\nhttps:/
 /cujf.org/community-calendar/cujef-board-meeting-1216\n\nFor more informat
 ion\, please email cujf@cujf.org
DTSTART;TZID=America/Chicago:20241216T190000
DTEND;TZID=America/Chicago:20241216T210000
END:VEVENT
END:VCALENDAR
