BEGIN:VCALENDAR
PRODID:-//eluceo/ical//2.0/EN
VERSION:2.0
CALSCALE:GREGORIAN
BEGIN:VEVENT
UID:8d0d9ca0f6da27f0c4bf6f3ddce1d77a
DTSTAMP:20260424T150955Z
SUMMARY:CUJEF Board Meeting
DESCRIPTION:Champaign-Urbana Jewish Federation\nCommunity Calendar\nhttps:/
 /cujf.org/community-calendar/cujef-board-meeting-120\n\nFor more informati
 on\, please email cujf@cujf.org
DTSTART;TZID=America/Chicago:20250120T190000
DTEND;TZID=America/Chicago:20250120T210000
END:VEVENT
END:VCALENDAR
