BEGIN:VCALENDAR
PRODID:-//eluceo/ical//2.0/EN
VERSION:2.0
CALSCALE:GREGORIAN
BEGIN:VEVENT
UID:cb501efc3fbe91eb0f43a911c35d846b
DTSTAMP:20260422T024835Z
SUMMARY:CUJEF Board Meeting
DESCRIPTION:Champaign-Urbana Jewish Federation\nCommunity Calendar\nhttps:/
 /cujf.org/community-calendar/cujef-board-meeting-1118\n\nFor more informat
 ion\, please email cujf@cujf.org
DTSTART;TZID=America/Chicago:20241118T190000
DTEND;TZID=America/Chicago:20241118T210000
END:VEVENT
END:VCALENDAR
