BEGIN:VCALENDAR
PRODID:-//eluceo/ical//2.0/EN
VERSION:2.0
CALSCALE:GREGORIAN
BEGIN:VEVENT
UID:714f74f9890664462a4e401a7b5612e9
DTSTAMP:20260421T043906Z
SUMMARY:CUJEF Board Meeting
DESCRIPTION:Champaign-Urbana Jewish Federation\nCommunity Calendar\nhttps:/
 /cujf.org/community-calendar/cujef-board-meeting-1021\n\nFor more informat
 ion\, please email cujf@cujf.org
DTSTART;TZID=America/Chicago:20241021T190000
DTEND;TZID=America/Chicago:20241021T210000
END:VEVENT
END:VCALENDAR
