BEGIN:VCALENDAR
PRODID:-//eluceo/ical//2.0/EN
VERSION:2.0
CALSCALE:GREGORIAN
BEGIN:VEVENT
UID:58cfbc6f751db2baf10ea41f3ae56a31
DTSTAMP:20260422T063244Z
SUMMARY:Crumbs of Wisdom:  Yiddish Storytelling for our Time
DESCRIPTION:Champaign-Urbana Jewish Federation\nCommunity Calendar\nhttps:/
 /cujf.org/community-calendar/crumbs-of-wisdom-yiddish-storytelling-for-our
 -time\n\n \n\n\n\n\n\n\n\n\n \n\n\n\n\n\n \n\n\n\n\n\n\n\n\n\n\n\n\n\n\
 n\n\n\n\n\n\nCrumbs of Wisdom:\n\nYiddish Storytelling for our Time\n\nFea
 turing Dr. Miriam Udel\n\n \n\nSunday\, February 22nd\, 2026\n\n2:00 PM -
  3:30 PM CST\n\nIllini Union Room 210\n\n \n\nCUJF PJ Library is excited 
 to partner with Dr. Miriam Udel\, Judith London Evans Director of the Tam
  Institute of Jewish Studies and associate professor of Yiddish language\,
  literature\, and culture at Emory University.\n\n \n\nMiriam will...
DTSTART;TZID=America/Chicago:20260222T140000
DTEND;TZID=America/Chicago:20260222T160000
END:VEVENT
END:VCALENDAR
