BEGIN:VCALENDAR
PRODID:-//eluceo/ical//2.0/EN
VERSION:2.0
CALSCALE:GREGORIAN
BEGIN:VEVENT
UID:6add884fd353e18a139d104ba7c3b0ed
DTSTAMP:20260423T004202Z
SUMMARY:Courage to Remember Exhibit in Mattoon
DESCRIPTION:Champaign-Urbana Jewish Federation\nCommunity Calendar\nhttps:/
 /cujf.org/community-calendar/courage-to-remember-exhibit-in-mattoon\n\nThe
  CUJF and Cross County Mall in Mattoon invite you to come see Courage to R
 emember\, a traveling Holocaust Exhibit. \n\nCourage to Remember has trav
 eled to more than 50 countries and has been seen by more than 20 million v
 isitors. Large\, illustrated panels briing the past aliive and enable visi
 tors to read about events of the Holocaust\, as well as excerpts from firs
 t-person accounts of persecution and survival. This exhibit inspires young
  and old alike to explore history\, combat bigotry\, an...
DTSTART;TZID=America/Chicago:20240304T000000
DTEND;TZID=America/Chicago:20240329T235959
END:VEVENT
END:VCALENDAR
