BEGIN:VCALENDAR
PRODID:-//eluceo/ical//2.0/EN
VERSION:2.0
CALSCALE:GREGORIAN
BEGIN:VEVENT
UID:5fa1f28c8c4a8b4fbd210349921bd8d6
DTSTAMP:20260421T161942Z
SUMMARY:Courage to Remember: A Traveling Holocaust Exhibit
DESCRIPTION:Champaign-Urbana Jewish Federation\nCommunity Calendar\nhttps:/
 /cujf.org/community-calendar/courage-to-remember-a-traveling-holocaust-exh
 ibit-1692379845\n\nTBD
DTSTART;TZID=America/Chicago:20230910T103000
DTEND;TZID=America/Chicago:20230910T130000
END:VEVENT
END:VCALENDAR
