BEGIN:VCALENDAR
PRODID:-//eluceo/ical//2.0/EN
VERSION:2.0
CALSCALE:GREGORIAN
BEGIN:VEVENT
UID:930dd6c6b0f3b20ba0dd08d81aefc1f5
DTSTAMP:20260425T154443Z
SUMMARY:Courage to Remember: A Holocaust Exhibit\, 1939-45  A Traveling Exh
 ibit
DESCRIPTION:Champaign-Urbana Jewish Federation\nCommunity Calendar\nhttps:/
 /cujf.org/community-calendar/courage-to-remember-a-holocaust-exhibit-1939-
 45--a-traveling-exhibit-1682712183\n\nThe exhibit will be available most d
 ays at the C-U Elks Lodge\, Rt 45 South\, Savoy\, Illinois from 9:00 a.m. 
 to 7:00 p.m. from May 15 to May 26. However\, those interested in visiting
  should check the event schedule at www.cujf/hec.org\, as there are times 
 it will be closed due to lodge-related events.\nThere is no charge to visi
 t the exhibit at the C-U Elks Lodge\, which has generously donated the use
  of their lodge for the local exhibit. \nTeachers and other group leaders 
 are encouraged to...
DTSTART;TZID=America/Chicago:20230515T090000
DTEND;TZID=America/Chicago:20230526T150000
END:VEVENT
END:VCALENDAR
