BEGIN:VCALENDAR
PRODID:-//eluceo/ical//2.0/EN
VERSION:2.0
CALSCALE:GREGORIAN
BEGIN:VEVENT
UID:49078d26d50324737b21451a7c91320d
DTSTAMP:20260425T122434Z
SUMMARY:Courage to Remember - Traveling Holocaust Exhibit
DESCRIPTION:Champaign-Urbana Jewish Federation\nCommunity Calendar\nhttps:/
 /cujf.org/community-calendar/courage-to-remember---traveling-holocaust-exh
 ibit-1695831168\n\nWhen Courage to Remember Traveling Exhibit was designed
  thirty years ago\, it was a reminder that the senseless acts of persecuti
 on and genocide from the Nazi Holocaust should never be forgotten. Yet\, d
 ecades later\, hate\, bigotry\, antisemitism\, and genocide are still wide
 spread in the world and even in our own communities. Courage to Remember h
 as traveled to more than 50 countries and seen by more than 20 million vis
 itors. This exhibit continues to inspire visitors to stand up against hate
  and...
DTSTART;TZID=America/Chicago:20231010T110000
DTEND;TZID=America/Chicago:20231010T130000
END:VEVENT
END:VCALENDAR
