BEGIN:VCALENDAR
PRODID:-//eluceo/ical//2.0/EN
VERSION:2.0
CALSCALE:GREGORIAN
BEGIN:VEVENT
UID:b3ecdb1b9259400751d8d0989c7c1093
DTSTAMP:20260422T070930Z
SUMMARY:Conversation with Leadership about the Tradition of Tzedakah
DESCRIPTION:Champaign-Urbana Jewish Federation\nCommunity Calendar\nhttps:/
 /cujf.org/community-calendar/conversation-with-leadership-about-the-tradit
 ion-of-tzedakah\n\nTzedakah: Conversations about the Tradition of Tzedaka
 h – charity and justice \n\nwith Rabbi Steven Sager\n\n \n\nHow do we 
 give?\n\nWhat are the benefits or drawbacks of giving anonymously\,  or g
 iving face to face?\n\nHow do we prioritize tzedakah?\n\nDoes tzedakah inv
 olve resources other than money?\n\nWhat does the Bible mean (Proverbs) wh
 en it says "Tzedakah saves  from death"?\n\nHow does tzedakah relate to h
 esed/compassion\, tikkun olam/repair of the world?\n\n \n\nRabbi Sager i
 ...
DTSTART;TZID=America/Chicago:20181010T190000
DTEND;TZID=America/Chicago:20181010T203000
END:VEVENT
END:VCALENDAR
