BEGIN:VCALENDAR
PRODID:-//eluceo/ical//2.0/EN
VERSION:2.0
CALSCALE:GREGORIAN
BEGIN:VEVENT
UID:fc84d38efba22577c98b2549800d51e0
DTSTAMP:20260422T134205Z
SUMMARY:Conservative Rosh Hashanah Morning Service
DESCRIPTION:Champaign-Urbana Jewish Federation\nCommunity Calendar\nhttps:/
 /cujf.org/community-calendar/conservative-rosh-hashanah-service-sept-11\n\
 n \n\nHillel is offering Reform\, Conservative\, and Orthodox services fo
 r the High Holidays. Please see their website for a complete listing of a
 ll services and meals for Rosh Hashanah\, Yom Kippur\, and Sukkot. The sam
 e website serves as the registration page for students. They have a separ
 ate page for registration for community members. 
DTSTART;TZID=America/Chicago:20180911T091500
DTEND;TZID=America/Chicago:20180911T111500
END:VEVENT
END:VCALENDAR
