BEGIN:VCALENDAR
PRODID:-//eluceo/ical//2.0/EN
VERSION:2.0
CALSCALE:GREGORIAN
BEGIN:VEVENT
UID:b8295d3fead3c5385d7d70bd74617682
DTSTAMP:20260424T044550Z
SUMMARY:Conservative Rosh Hashanah Morning Service
DESCRIPTION:Champaign-Urbana Jewish Federation\nCommunity Calendar\nhttps:/
 /cujf.org/community-calendar/conservative-rosh-hashanah-service-sept-10-mo
 rning\n\nHillel is offering Reform\, Conservative\, and Orthodox services 
 for the High Holidays. Please see their website for a complete listing of
  all services and meals for Rosh Hashanah\, Yom Kippur\, and Sukkot. The s
 ame website serves as the registration page for students. They have a sep
 arate page for registration for community members. 
DTSTART;TZID=America/Chicago:20180910T091500
DTEND;TZID=America/Chicago:20180910T130000
END:VEVENT
END:VCALENDAR
