BEGIN:VCALENDAR
PRODID:-//eluceo/ical//2.0/EN
VERSION:2.0
CALSCALE:GREGORIAN
BEGIN:VEVENT
UID:8e4ec6436d54ba8279cf99fac527ab30
DTSTAMP:20260422T011937Z
SUMMARY:Community Seder at Chabad
DESCRIPTION:Champaign-Urbana Jewish Federation\nCommunity Calendar\nhttps:/
 /cujf.org/community-calendar/community-seder-at-chabad-1-2018\n\nSitting a
 round a beautifully set table\, surrounded by friends\, upbeat atmosphere\
 , great food and lots of fun surprises - that basically sums up the Seders
  at Chabad. Led by Rabbi Dovid and Goldie Tiechtel.\n\nExperience the fre
 edom with gourmet foods and fine wines. Experience the message with spirit
 ed singing\, questions\, surprises and fun!\n\nSubsidized Costs: Student /
  Child: $18 per seder per person · Adult: $36 per seder per person \nFul
 l Cost: $50
DTSTART;TZID=America/Chicago:20180330T184500
DTEND;TZID=America/Chicago:20180330T214500
END:VEVENT
END:VCALENDAR
