BEGIN:VCALENDAR
PRODID:-//eluceo/ical//2.0/EN
VERSION:2.0
CALSCALE:GREGORIAN
BEGIN:VEVENT
UID:ff354fb90c042d064a95952a995763fe
DTSTAMP:20260425T140953Z
SUMMARY:Communal T’shuvah: A Look at Criminal Justice Reform Through A Je
 wish Lens
DESCRIPTION:Champaign-Urbana Jewish Federation\nCommunity Calendar\nhttps:/
 /cujf.org/community-calendar/communal-tshuvah-a-look-at-criminal-justice-r
 eform-through-a-jewish-lens3\n\nDiscussion on communal forgiveness and the
  structural issues that inform our criminal justice system lead by Brittan
 y White
DTSTART;TZID=America/Chicago:20191009T140000
DTEND;TZID=America/Chicago:20191009T140000
END:VEVENT
END:VCALENDAR
