BEGIN:VCALENDAR
PRODID:-//eluceo/ical//2.0/EN
VERSION:2.0
CALSCALE:GREGORIAN
BEGIN:VEVENT
UID:50f011978bf67f252100e4726ccdafaa
DTSTAMP:20260421T075130Z
SUMMARY:Communal T’shuvah: A Look at Criminal Justice Reform Through A Je
 wish Lens
DESCRIPTION:Champaign-Urbana Jewish Federation\nCommunity Calendar\nhttps:/
 /cujf.org/community-calendar/communal-tshuvah-a-look-at-criminal-justice-r
 eform-through-a-jewish-lens2\n\nYom Kippur Services. Keynote Speaker Britt
 any White.
DTSTART;TZID=America/Chicago:20191008T180000
DTEND;TZID=America/Chicago:20191008T180000
END:VEVENT
END:VCALENDAR
