BEGIN:VCALENDAR
PRODID:-//eluceo/ical//2.0/EN
VERSION:2.0
CALSCALE:GREGORIAN
BEGIN:VEVENT
UID:459c133d12f60d8dc0c2abf688917d46
DTSTAMP:20260425T154803Z
SUMMARY:Communal T’shuvah: A Look at Criminal Justice Reform Through A Je
 wish Lens
DESCRIPTION:Champaign-Urbana Jewish Federation\nCommunity Calendar\nhttps:/
 /cujf.org/community-calendar/communal-tshuvah-a-look-at-criminal-justice-r
 eform-through-a-jewish-lens\n\nCommunal T’shuvah: A Look at Criminal Jus
 tice Reform Through A Jewish Lens\n\n \n\nOctober 6\, 6:30 pm at Universi
 ty YMCA \n\nPanel Discussion featuring state’s attorney Julia Rietz\, j
 udge Randy Rosenbaum\, and Marlon Mitchell\, the Director of First Followe
 rs\n\nThe panelists will discuss their narratives\, their roles within the
  criminal justice system\, and how they see their responsibility to act to
 wards forgiveness within their careers. After the panel there will be an o
 pen Q&A.\n\n \n...
DTSTART;TZID=America/Chicago:20191006T183000
DTEND;TZID=America/Chicago:20191006T183000
END:VEVENT
END:VCALENDAR
