BEGIN:VCALENDAR
PRODID:-//eluceo/ical//2.0/EN
VERSION:2.0
CALSCALE:GREGORIAN
BEGIN:VEVENT
UID:f79304253b819eead137945d492a8271
DTSTAMP:20260422T125933Z
SUMMARY:Communal Story Slam on Loss - in honor of  Tisha b'Av
DESCRIPTION:Champaign-Urbana Jewish Federation\nCommunity Calendar\nhttps:/
 /cujf.org/community-calendar/communal-story-slam-on-loss---in-honor-of--ti
 sha-bav-1658344416\n\nOur world has witnessed countless losses over the la
 st two and a half years. Join the CU community and Illini Hillel to honor 
 personal and collective loss through a story slam on the evening of Saturd
 ay\, August 6th. This event also honors Tisha b’Av\, a Jewish day of mou
 rning for communal loss that takes place on the 9th of the Hebrew month of
  Av.\nWe will be starting at 6:30pm at 25 O'Clock Brewing Company. This ev
 ent is 18+\n\nSign up here to share a story (no longer than 5 minutes) on 
 the...
DTSTART;TZID=America/Chicago:20220806T183000
DTEND;TZID=America/Chicago:20220806T200000
END:VEVENT
END:VCALENDAR
