BEGIN:VCALENDAR
PRODID:-//eluceo/ical//2.0/EN
VERSION:2.0
CALSCALE:GREGORIAN
BEGIN:VEVENT
UID:a19292546353588715f204774945865d
DTSTAMP:20260422T223723Z
SUMMARY:Communal Havdallah
DESCRIPTION:Champaign-Urbana Jewish Federation\nCommunity Calendar\nhttps:/
 /cujf.org/community-calendar/communal-havdallah\n\nCome together with peop
 le from across the community for Havdallah\, the service that signifies th
 e end of of Shabbat and the beginning of a new week. 
DTSTART;TZID=America/Chicago:20181201T171500
DTEND;TZID=America/Chicago:20181201T180000
END:VEVENT
END:VCALENDAR
