BEGIN:VCALENDAR
PRODID:-//eluceo/ical//2.0/EN
VERSION:2.0
CALSCALE:GREGORIAN
BEGIN:VEVENT
UID:602a70c335e746167b6b1dbeb114a78c
DTSTAMP:20260425T011643Z
SUMMARY:The Commandant's Shadow: Private Screening & Fundraiser
DESCRIPTION:Champaign-Urbana Jewish Federation\nCommunity Calendar\nhttps:/
 /cujf.org/community-calendar/commandants-shadow\n\nPrivate Screening & Fun
 draiser\n\nThe Commandant's Shadow\n\nTwo lives. Two stories. One wall tha
 t divided them. \n\nWitness the historic moment over 70 years after the H
 olocaust when the son of the Commandant of Auschwitz meets an incredible
  survivor.\n\n \n\nTickets will support the new\n\n"Lilly and David Gingo
 ld Holocaust and Tolerance Education Outreach Fund"\n\nestablished to hono
 r the memory of Dr. William Gingold’s parents\, Lilly a...
DTSTART;TZID=America/Chicago:20240529T183000
DTEND;TZID=America/Chicago:20240529T203000
END:VEVENT
END:VCALENDAR
